BEGIN:VCALENDAR
VERSION:2.0
PRODID:-//ATG USA - ECPv6.15.20//NONSGML v1.0//EN
CALSCALE:GREGORIAN
METHOD:PUBLISH
X-WR-CALNAME:ATG USA
X-ORIGINAL-URL:https://atgusa.com
X-WR-CALDESC:Events for ATG USA
REFRESH-INTERVAL;VALUE=DURATION:PT1H
X-Robots-Tag:noindex
X-PUBLISHED-TTL:PT1H
BEGIN:VTIMEZONE
TZID:America/Chicago
BEGIN:DAYLIGHT
TZOFFSETFROM:-0600
TZOFFSETTO:-0500
TZNAME:CDT
DTSTART:20230312T080000
END:DAYLIGHT
BEGIN:STANDARD
TZOFFSETFROM:-0500
TZOFFSETTO:-0600
TZNAME:CST
DTSTART:20231105T070000
END:STANDARD
BEGIN:DAYLIGHT
TZOFFSETFROM:-0600
TZOFFSETTO:-0500
TZNAME:CDT
DTSTART:20240310T080000
END:DAYLIGHT
BEGIN:STANDARD
TZOFFSETFROM:-0500
TZOFFSETTO:-0600
TZNAME:CST
DTSTART:20241103T070000
END:STANDARD
BEGIN:DAYLIGHT
TZOFFSETFROM:-0600
TZOFFSETTO:-0500
TZNAME:CDT
DTSTART:20250309T080000
END:DAYLIGHT
BEGIN:STANDARD
TZOFFSETFROM:-0500
TZOFFSETTO:-0600
TZNAME:CST
DTSTART:20251102T070000
END:STANDARD
END:VTIMEZONE
BEGIN:VEVENT
DTSTART;TZID=America/Chicago:20241030T120000
DTEND;TZID=America/Chicago:20241030T130000
DTSTAMP:20260421T032555
CREATED:20240718T153512Z
LAST-MODIFIED:20240821T171027Z
UID:10000036-1730289600-1730293200@atgusa.com
SUMMARY:CTC Webinar: Nexus CMS User Learning Series: Digging into Content Details
DESCRIPTION:So you have found what you believe to be the correct piece of content. But is it really? Do you want to know for sure before you load it into your project? The CMS Content Details panel can show you quite a bit more than just a preview image for a specific piece of content. You can see all the detailed parameters for all types and variations on any piece of content\, on-demand and without the need to manually open the files one by one.This webinar will dig deep into the Content Details panel available in Nexus CMS\, describing some of the strategies you can use to get the best results from the content the CMS presents to you after you run a search. \nLearning Objectives:1. Accessing the Content Details panel2. Navigating common content details3. Inspect content file and type data4. Searching within content type data \nREGISTER HERE
URL:https://atgusa.com/event/ctc-webinar-nexus-cms-user-learning-series-digging-into-content-details/
LOCATION:Webinar
CATEGORIES:CTC
ATTACH;FMTTYPE=image/jpeg:https://atgusa.com/wp-content/uploads/2024/07/atg-partners-for-events.jpg
END:VEVENT
END:VCALENDAR