BEGIN:VCALENDAR
VERSION:2.0
PRODID:-//ATG USA - ECPv6.15.20//NONSGML v1.0//EN
CALSCALE:GREGORIAN
METHOD:PUBLISH
X-WR-CALNAME:ATG USA
X-ORIGINAL-URL:https://atgusa.com
X-WR-CALDESC:Events for ATG USA
REFRESH-INTERVAL;VALUE=DURATION:PT1H
X-Robots-Tag:noindex
X-PUBLISHED-TTL:PT1H
BEGIN:VTIMEZONE
TZID:America/Chicago
BEGIN:DAYLIGHT
TZOFFSETFROM:-0600
TZOFFSETTO:-0500
TZNAME:CDT
DTSTART:20230312T080000
END:DAYLIGHT
BEGIN:STANDARD
TZOFFSETFROM:-0500
TZOFFSETTO:-0600
TZNAME:CST
DTSTART:20231105T070000
END:STANDARD
BEGIN:DAYLIGHT
TZOFFSETFROM:-0600
TZOFFSETTO:-0500
TZNAME:CDT
DTSTART:20240310T080000
END:DAYLIGHT
BEGIN:STANDARD
TZOFFSETFROM:-0500
TZOFFSETTO:-0600
TZNAME:CST
DTSTART:20241103T070000
END:STANDARD
BEGIN:DAYLIGHT
TZOFFSETFROM:-0600
TZOFFSETTO:-0500
TZNAME:CDT
DTSTART:20250309T080000
END:DAYLIGHT
BEGIN:STANDARD
TZOFFSETFROM:-0500
TZOFFSETTO:-0600
TZNAME:CST
DTSTART:20251102T070000
END:STANDARD
END:VTIMEZONE
BEGIN:VEVENT
DTSTART;TZID=America/Chicago:20241022T120000
DTEND;TZID=America/Chicago:20241022T130000
DTSTAMP:20260421T033520
CREATED:20240718T152435Z
LAST-MODIFIED:20240821T170846Z
UID:10000034-1729598400-1729602000@atgusa.com
SUMMARY:CTC Webinar: A Comprehensive Introduction to Label Genie for Survey
DESCRIPTION:Explore the power of Label Genie for survey projects using CTC Software’s CIM Tools in our upcoming webinar. Learn how to streamline labeling tasks and ensure consistency in survey data. Discover efficient techniques to create\, manage and apply labels\, enhancing productivity. We will guide you through setup\, usage and best practices\, empowering you to optimize your survey workflows. Ideal for surveyors and professionals seeking to elevate their project efficiency. Don’t miss this opportunity to learn about Label Genie and transform your survey project management. \nLearning Objectives:1. Master Label Genie for efficient survey project labeling2. Ensure consistency and accuracy in survey data labeling3. Learn setup\, usage and best practices4. Enhance productivity and streamline survey project workflows \nREGISTER HERE
URL:https://atgusa.com/event/ctc-webinar-a-comprehensive-introduction-to-label-genie-for-survey/
LOCATION:Webinar
CATEGORIES:CTC
ATTACH;FMTTYPE=image/jpeg:https://atgusa.com/wp-content/uploads/2024/07/atg-partners-for-events.jpg
END:VEVENT
END:VCALENDAR